BEGIN:VCALENDAR
VERSION:2.0
PRODID:-//Timber Ridge Homeowners Association - ECPv6.15.17//NONSGML v1.0//EN
CALSCALE:GREGORIAN
METHOD:PUBLISH
X-WR-CALNAME:Timber Ridge Homeowners Association
X-ORIGINAL-URL:https://www.timberridge-hoa.com
X-WR-CALDESC:Events for Timber Ridge Homeowners Association
REFRESH-INTERVAL;VALUE=DURATION:PT1H
X-Robots-Tag:noindex
X-PUBLISHED-TTL:PT1H
BEGIN:VTIMEZONE
TZID:America/Denver
BEGIN:DAYLIGHT
TZOFFSETFROM:-0700
TZOFFSETTO:-0600
TZNAME:MDT
DTSTART:20130310T090000
END:DAYLIGHT
BEGIN:STANDARD
TZOFFSETFROM:-0600
TZOFFSETTO:-0700
TZNAME:MST
DTSTART:20131103T080000
END:STANDARD
BEGIN:DAYLIGHT
TZOFFSETFROM:-0700
TZOFFSETTO:-0600
TZNAME:MDT
DTSTART:20140309T090000
END:DAYLIGHT
BEGIN:STANDARD
TZOFFSETFROM:-0600
TZOFFSETTO:-0700
TZNAME:MST
DTSTART:20141102T080000
END:STANDARD
BEGIN:DAYLIGHT
TZOFFSETFROM:-0700
TZOFFSETTO:-0600
TZNAME:MDT
DTSTART:20150308T090000
END:DAYLIGHT
BEGIN:STANDARD
TZOFFSETFROM:-0600
TZOFFSETTO:-0700
TZNAME:MST
DTSTART:20151101T080000
END:STANDARD
END:VTIMEZONE
BEGIN:VEVENT
DTSTART;TZID=America/Denver:20141206T150000
DTEND;TZID=America/Denver:20141206T190000
DTSTAMP:20260423T190654
CREATED:20141102T175800Z
LAST-MODIFIED:20141128T224215Z
UID:367-1417878000-1417892400@www.timberridge-hoa.com
SUMMARY:Town of Severance Christmas Open House
DESCRIPTION:Join us at our first Christmas Open House at our new Town Hall! Chili and refreshments (including hot chocolate) will be served. \nSanta Claus will be there from 3-6pm! \nFireworks at 7pm! \nFor continuing updates\, check the Town of Severance website.
URL:https://www.timberridge-hoa.com/event/town-severance-christmas-open-house/
LOCATION:Severance Town Hall\, 3 Timber Ridge Parkway\, Severance\, CO\, 80550\, United States
CATEGORIES:Family-Friendly,Free,Kids,Open House
END:VEVENT
BEGIN:VEVENT
DTSTART;TZID=America/Denver:20140715T160000
DTEND;TZID=America/Denver:20140715T190000
DTSTAMP:20260423T190654
CREATED:20140628T235729Z
LAST-MODIFIED:20140628T235729Z
UID:104-1405440000-1405450800@www.timberridge-hoa.com
SUMMARY:New Town Hall Open House
DESCRIPTION:Visit with town staff\, meet town board members\, and view the new town hall (with snacks and refreshments!).
URL:https://www.timberridge-hoa.com/event/new-town-hall-open-house/
LOCATION:Severance Town Hall\, 3 Timber Ridge Parkway\, Severance\, CO\, 80550\, United States
CATEGORIES:Open House
END:VEVENT
END:VCALENDAR