BEGIN:VCALENDAR
VERSION:2.0
PRODID:-//Timber Ridge Homeowners Association - ECPv6.15.17//NONSGML v1.0//EN
CALSCALE:GREGORIAN
METHOD:PUBLISH
X-WR-CALNAME:Timber Ridge Homeowners Association
X-ORIGINAL-URL:https://www.timberridge-hoa.com
X-WR-CALDESC:Events for Timber Ridge Homeowners Association
REFRESH-INTERVAL;VALUE=DURATION:PT1H
X-Robots-Tag:noindex
X-PUBLISHED-TTL:PT1H
BEGIN:VTIMEZONE
TZID:America/Denver
BEGIN:DAYLIGHT
TZOFFSETFROM:-0700
TZOFFSETTO:-0600
TZNAME:MDT
DTSTART:20140309T090000
END:DAYLIGHT
BEGIN:STANDARD
TZOFFSETFROM:-0600
TZOFFSETTO:-0700
TZNAME:MST
DTSTART:20141102T080000
END:STANDARD
BEGIN:DAYLIGHT
TZOFFSETFROM:-0700
TZOFFSETTO:-0600
TZNAME:MDT
DTSTART:20150308T090000
END:DAYLIGHT
BEGIN:STANDARD
TZOFFSETFROM:-0600
TZOFFSETTO:-0700
TZNAME:MST
DTSTART:20151101T080000
END:STANDARD
BEGIN:DAYLIGHT
TZOFFSETFROM:-0700
TZOFFSETTO:-0600
TZNAME:MDT
DTSTART:20160313T090000
END:DAYLIGHT
BEGIN:STANDARD
TZOFFSETFROM:-0600
TZOFFSETTO:-0700
TZNAME:MST
DTSTART:20161106T080000
END:STANDARD
BEGIN:DAYLIGHT
TZOFFSETFROM:-0700
TZOFFSETTO:-0600
TZNAME:MDT
DTSTART:20170312T090000
END:DAYLIGHT
BEGIN:STANDARD
TZOFFSETFROM:-0600
TZOFFSETTO:-0700
TZNAME:MST
DTSTART:20171105T080000
END:STANDARD
BEGIN:DAYLIGHT
TZOFFSETFROM:-0700
TZOFFSETTO:-0600
TZNAME:MDT
DTSTART:20180311T090000
END:DAYLIGHT
BEGIN:STANDARD
TZOFFSETFROM:-0600
TZOFFSETTO:-0700
TZNAME:MST
DTSTART:20181104T080000
END:STANDARD
BEGIN:DAYLIGHT
TZOFFSETFROM:-0700
TZOFFSETTO:-0600
TZNAME:MDT
DTSTART:20190310T090000
END:DAYLIGHT
BEGIN:STANDARD
TZOFFSETFROM:-0600
TZOFFSETTO:-0700
TZNAME:MST
DTSTART:20191103T080000
END:STANDARD
BEGIN:DAYLIGHT
TZOFFSETFROM:-0700
TZOFFSETTO:-0600
TZNAME:MDT
DTSTART:20200308T090000
END:DAYLIGHT
BEGIN:STANDARD
TZOFFSETFROM:-0600
TZOFFSETTO:-0700
TZNAME:MST
DTSTART:20201101T080000
END:STANDARD
BEGIN:DAYLIGHT
TZOFFSETFROM:-0700
TZOFFSETTO:-0600
TZNAME:MDT
DTSTART:20210314T090000
END:DAYLIGHT
BEGIN:STANDARD
TZOFFSETFROM:-0600
TZOFFSETTO:-0700
TZNAME:MST
DTSTART:20211107T080000
END:STANDARD
END:VTIMEZONE
BEGIN:VEVENT
DTSTART;TZID=America/Denver:20200312T183000
DTEND;TZID=America/Denver:20200312T200000
DTSTAMP:20260423T095532
CREATED:20200107T174903Z
LAST-MODIFIED:20200107T180643Z
UID:844-1584037800-1584043200@www.timberridge-hoa.com
SUMMARY:BoD Meeting
DESCRIPTION:
URL:https://www.timberridge-hoa.com/event/bod-meeting-2/
LOCATION:Severance Town Hall\, 3 Timber Ridge Parkway\, Severance\, CO\, 80550\, United States
CATEGORIES:HOA Meeting
ATTACH;FMTTYPE=image/jpeg:https://www.timberridge-hoa.com/wp-content/uploads/7CC55C05-61A0-4D59-9B80-8BD5D6DD3B8E.jpeg
END:VEVENT
BEGIN:VEVENT
DTSTART;TZID=America/Denver:20200109T183000
DTEND;TZID=America/Denver:20200109T200000
DTSTAMP:20260423T095532
CREATED:20200107T173346Z
LAST-MODIFIED:20200107T180722Z
UID:842-1578594600-1578600000@www.timberridge-hoa.com
SUMMARY:BoD Meeting
DESCRIPTION:
URL:https://www.timberridge-hoa.com/event/bod-meeting/
LOCATION:Severance Town Hall\, 3 Timber Ridge Parkway\, Severance\, CO\, 80550\, United States
CATEGORIES:HOA Meeting
ATTACH;FMTTYPE=image/jpeg:https://www.timberridge-hoa.com/wp-content/uploads/7CC55C05-61A0-4D59-9B80-8BD5D6DD3B8E.jpeg
END:VEVENT
BEGIN:VEVENT
DTSTART;TZID=America/Denver:20191024T180000
DTEND;TZID=America/Denver:20191024T193000
DTSTAMP:20260423T095532
CREATED:20181229T173412Z
LAST-MODIFIED:20190501T151016Z
UID:717-1571940000-1571945400@www.timberridge-hoa.com
SUMMARY:HOA Board of Directors meeting
DESCRIPTION:Quarterly BoD meeting will be held October 24\, 2019   6pm at Town Hall.  This meeting will include setting the budget for 2020.   As always\, HOA members are encouraged to come the the meeting to hear what is going on within the HOA
URL:https://www.timberridge-hoa.com/event/hoa-board-of-directors-meeting-2/
LOCATION:Severance Town Hall\, 3 Timber Ridge Parkway\, Severance\, CO\, 80550\, United States
END:VEVENT
BEGIN:VEVENT
DTSTART;TZID=America/Denver:20190711T180000
DTEND;TZID=America/Denver:20190711T180000
DTSTAMP:20260423T095532
CREATED:20190426T215125Z
LAST-MODIFIED:20190426T215125Z
UID:738-1562868000-1562868000@www.timberridge-hoa.com
SUMMARY:2019 Annual HOA Members Meeting
DESCRIPTION:The 2019 Annual Members meeting will be held July 11th\, 6pm\, at Town Hall. \nPlease enter through the door on the SW side of the building.
URL:https://www.timberridge-hoa.com/event/2019-annual-hoa-members-meeting/
LOCATION:Severance Town Hall\, 3 Timber Ridge Parkway\, Severance\, CO\, 80550\, United States
END:VEVENT
BEGIN:VEVENT
DTSTART;TZID=America/Denver:20190425T180000
DTEND;TZID=America/Denver:20190425T193000
DTSTAMP:20260423T095532
CREATED:20181229T172019Z
LAST-MODIFIED:20181229T175524Z
UID:715-1556215200-1556220600@www.timberridge-hoa.com
SUMMARY:HOA Board of Directors meeting
DESCRIPTION:Quarterly BoD meeting will be held April 25\, 2019   6pm at Town Hall.   As always\, HOA members are encouraged to come the the meeting to hear what is going on within the HOA
URL:https://www.timberridge-hoa.com/event/hoa-board-of-directors-meeting/
LOCATION:Severance Town Hall\, 3 Timber Ridge Parkway\, Severance\, CO\, 80550\, United States
END:VEVENT
BEGIN:VEVENT
DTSTART;TZID=America/Denver:20181229T080000
DTEND;TZID=America/Denver:20181229T170000
DTSTAMP:20260423T095532
CREATED:20181229T175325Z
LAST-MODIFIED:20181229T175325Z
UID:728-1546070400-1546102800@www.timberridge-hoa.com
SUMMARY:2019 Annual Members Meeting
DESCRIPTION:The 2019 Timber Ridge HOA Annual Members meeting will be held Thursday\, July 11   –  6pm at Town Hall. \nA BoD meeting will immediately follow.
URL:https://www.timberridge-hoa.com/event/2019-annual-members-meeting/
LOCATION:CO
END:VEVENT
BEGIN:VEVENT
DTSTART;TZID=America/Denver:20181213T180000
DTEND;TZID=America/Denver:20181213T190000
DTSTAMP:20260423T095532
CREATED:20181030T164612Z
LAST-MODIFIED:20181030T164612Z
UID:708-1544724000-1544727600@www.timberridge-hoa.com
SUMMARY:Budget Ratification Meeting & Board Meeting
DESCRIPTION:
URL:https://www.timberridge-hoa.com/event/budget-ratification-meeting-board-meeting/
LOCATION:TBD
END:VEVENT
BEGIN:VEVENT
DTSTART;TZID=America/Denver:20181025T180000
DTEND;TZID=America/Denver:20181025T193000
DTSTAMP:20260423T095532
CREATED:20171201T233833Z
LAST-MODIFIED:20181009T173925Z
UID:642-1540490400-1540495800@www.timberridge-hoa.com
SUMMARY:Board of Directors Meeting
DESCRIPTION:Quarterly Board of Directors Meeting will be held Thursday Oct 25th 6pm at Town Hall.  All HOA members are invited and encouraged to attend any Quarterly Board of Directors meetings.
URL:https://www.timberridge-hoa.com/event/board-directors-meeting-3/
LOCATION:Severance Town Hall\, 3 Timber Ridge Parkway\, Severance\, CO\, 80550\, United States
CATEGORIES:HOA Meeting
END:VEVENT
BEGIN:VEVENT
DTSTART;TZID=America/Denver:20180705T180000
DTEND;TZID=America/Denver:20180705T200000
DTSTAMP:20260423T095532
CREATED:20171201T233717Z
LAST-MODIFIED:20180501T144212Z
UID:640-1530813600-1530820800@www.timberridge-hoa.com
SUMMARY:Annual Meeting
DESCRIPTION:Please join us at Karen Suman Park for this year’s Annual HOA Meeting.  Bring  a chair or blanket\, let the kids play at the park\, and even bring a picnic for your family if you’d like.  This will be a great time to meet your neighbors while hearing an update on our association from the Board of Directors.
URL:https://www.timberridge-hoa.com/event/annual-meeting/
LOCATION:Karen Suman Park\, Corner of Timber Ridge Pkwy and Pinion Pine
CATEGORIES:HOA Meeting
END:VEVENT
BEGIN:VEVENT
DTSTART;TZID=America/Denver:20180426T180000
DTEND;TZID=America/Denver:20180426T193000
DTSTAMP:20260423T095532
CREATED:20171201T233333Z
LAST-MODIFIED:20180124T145106Z
UID:638-1524765600-1524771000@www.timberridge-hoa.com
SUMMARY:Board of Directors Meeting
DESCRIPTION:Quarterly Board of Directors Meeting
URL:https://www.timberridge-hoa.com/event/board-directors-meeting-2/
LOCATION:Harvest View Church\, 385 W. 4th Ave\, Severance\, CO\, 80550\, United States
CATEGORIES:HOA Meeting
END:VEVENT
BEGIN:VEVENT
DTSTART;TZID=America/Denver:20180125T180000
DTEND;TZID=America/Denver:20180125T193000
DTSTAMP:20260423T095532
CREATED:20171201T233141Z
LAST-MODIFIED:20180124T144926Z
UID:636-1516903200-1516908600@www.timberridge-hoa.com
SUMMARY:Board of Directors Meeting
DESCRIPTION:Quarterly Board of Directors Meeting.
URL:https://www.timberridge-hoa.com/event/board-directors-meeting/
LOCATION:Harvest View Church\, 385 W. 4th Ave\, Severance\, CO\, 80550\, United States
END:VEVENT
BEGIN:VEVENT
DTSTART;TZID=America/Denver:20171218T180000
DTEND;TZID=America/Denver:20171218T190000
DTSTAMP:20260423T095532
CREATED:20171201T233003Z
LAST-MODIFIED:20171201T233003Z
UID:634-1513620000-1513623600@www.timberridge-hoa.com
SUMMARY:Budget Ratification meeting
DESCRIPTION:
URL:https://www.timberridge-hoa.com/event/budget-ratification-meeting/
LOCATION:TBD
END:VEVENT
BEGIN:VEVENT
DTSTART;TZID=America/Denver:20171130T170000
DTEND;TZID=America/Denver:20171130T170000
DTSTAMP:20260423T095532
CREATED:20170922T161218Z
LAST-MODIFIED:20170922T161501Z
UID:598-1512061200-1512061200@www.timberridge-hoa.com
SUMMARY:HOA Board Meeting
DESCRIPTION:    Please join us at our next HOA board meeting.  Learn more about the issues our HOA faces and participate in the changes to your community! We invite all HOA members to come. \n  \n 
URL:https://www.timberridge-hoa.com/event/hoa-board-meeting-3/
LOCATION:TBD
END:VEVENT
BEGIN:VEVENT
DTSTART;TZID=America/Denver:20170921T180000
DTEND;TZID=America/Denver:20170921T180000
DTSTAMP:20260423T095532
CREATED:20170918T195928Z
LAST-MODIFIED:20170919T200207Z
UID:620-1506016800-1506016800@www.timberridge-hoa.com
SUMMARY:Annual Meeting of Members
DESCRIPTION:September 21st  6pm at Town Hall
URL:https://www.timberridge-hoa.com/event/annual-meeting-members/
LOCATION:CO
CATEGORIES:HOA Meeting
END:VEVENT
BEGIN:VEVENT
DTSTART;TZID=America/Denver:20161005T190000
DTEND;TZID=America/Denver:20161005T200000
DTSTAMP:20260423T095532
CREATED:20160702T061038Z
LAST-MODIFIED:20160702T061038Z
UID:579-1475694000-1475697600@www.timberridge-hoa.com
SUMMARY:HOA Board Meeting
DESCRIPTION:Join us for our next board meeting! All homeowners are welcome. 🙂 \nWe are looking for volunteers to help in various capacities with the HOA: \n\nWelcome committee – welcoming new homeowners to our neighborhood and introducing the HOA\nLandscaping overseer – making sure our sprinklers / lawns / common areas / drainages are properly maintained by our landscaping company\n\nIf interested\, please contact us or attend the next meeting!
URL:https://www.timberridge-hoa.com/event/hoa-board-meeting-2/
LOCATION:Severance Town Hall\, 3 Timber Ridge Parkway\, Severance\, CO\, 80550\, United States
CATEGORIES:HOA Meeting
END:VEVENT
BEGIN:VEVENT
DTSTART;TZID=America/Denver:20160629T190000
DTEND;TZID=America/Denver:20160629T200000
DTSTAMP:20260423T095532
CREATED:20160608T050009Z
LAST-MODIFIED:20160622T043423Z
UID:574-1467226800-1467230400@www.timberridge-hoa.com
SUMMARY:HOA Board Meeting
DESCRIPTION:UPDATED!!! \nJoin us for our next board meeting! All homeowners are welcome. 🙂 \nWe are looking for volunteers to help in various capacities with the HOA: \n\nWelcome committee – welcoming new homeowners to our neighborhood and introducing the HOA\nLandscaping overseer – making sure our sprinklers / lawns / common areas / drainages are properly maintained by our landscaping company\nBoard members – presiding over HOA decisions and ensuring the governing documents are upheld\nARC member – ensuring property changes uphold the design and continuity in the neighborhood\n\nIf interested\, please contact us or attend the next meeting!
URL:https://www.timberridge-hoa.com/event/board-meeting/
LOCATION:Old Town Hall (Downtown)\, 36000 1st Street\, Severance\, CO\, 80550\, United States
CATEGORIES:HOA Meeting
END:VEVENT
BEGIN:VEVENT
DTSTART;TZID=America/Denver:20160430T070000
DTEND;TZID=America/Denver:20160430T150000
DTSTAMP:20260423T095532
CREATED:20160403T210420Z
LAST-MODIFIED:20160403T210420Z
UID:571-1461999600-1462028400@www.timberridge-hoa.com
SUMMARY:Town of Severance Clean Up Day
DESCRIPTION:Need help hauling large items? Call Town Hall – 970-686-1218 – before April 29 to arrange for pickup of large items only (NO TRASH). \nWe can not accept the following : \n\nHousehold hazardous waste\ncleaners\npaints\nbatteries\naerosols\nmotor oil\noil filters\nantifreeze\ngasoline\npesticides\ntires\nTVs / computers / electronics
URL:https://www.timberridge-hoa.com/event/town-severance-clean-day/
LOCATION:Drop Off Location\, WCR 23 & 3rd Ave\, Severance\, CO\, 80550\, United States
CATEGORIES:Free
END:VEVENT
BEGIN:VEVENT
DTSTART;TZID=America/Denver:20151210T190000
DTEND;TZID=America/Denver:20151210T203000
DTSTAMP:20260423T095532
CREATED:20150123T064601Z
LAST-MODIFIED:20150123T064601Z
UID:445-1449774000-1449779400@www.timberridge-hoa.com
SUMMARY:HOA Board of Directors Meeting
DESCRIPTION:Learn more about the issues our HOA faces and participate in the changes to your community! We invite all HOA members to come.
URL:https://www.timberridge-hoa.com/event/hoa-board-directors-meeting-6/
LOCATION:Severance Town Hall\, 3 Timber Ridge Parkway\, Severance\, CO\, 80550\, United States
CATEGORIES:HOA Meeting
END:VEVENT
BEGIN:VEVENT
DTSTART;TZID=America/Denver:20151208T173000
DTEND;TZID=America/Denver:20151208T210000
DTSTAMP:20260423T095532
CREATED:20150330T050556Z
LAST-MODIFIED:20150330T050556Z
UID:525-1449595800-1449608400@www.timberridge-hoa.com
SUMMARY:Free CPR Training
DESCRIPTION:As part of their Heart Safe Community Campaign\, the McKee Medical Center Foundation is covering the cost of 2015 CPR training sessions with the Thompson Valley EMS ambulance service for interested individuals. Their goal is to ensure that community members are trained in CPR – including those who may not be able to cover the cost of training. \nClasses are limited to 15 people. Fees will be waived during 2015. \nRegister online at www.tvems.com > Education > Class Registration.
URL:https://www.timberridge-hoa.com/event/free-cpr-training-5/
LOCATION:Thompson Valley EMS\, 4480 Clydesdale Parkway\, Loveland\, CO\, 80538\, United States
CATEGORIES:Free,Health / Safety
END:VEVENT
BEGIN:VEVENT
DTSTART;TZID=America/Denver:20151110T173000
DTEND;TZID=America/Denver:20151110T210000
DTSTAMP:20260423T095532
CREATED:20150330T050526Z
LAST-MODIFIED:20150330T050526Z
UID:524-1447176600-1447189200@www.timberridge-hoa.com
SUMMARY:Free CPR Training
DESCRIPTION:As part of their Heart Safe Community Campaign\, the McKee Medical Center Foundation is covering the cost of 2015 CPR training sessions with the Thompson Valley EMS ambulance service for interested individuals. Their goal is to ensure that community members are trained in CPR – including those who may not be able to cover the cost of training. \nClasses are limited to 15 people. Fees will be waived during 2015. \nRegister online at www.tvems.com > Education > Class Registration.
URL:https://www.timberridge-hoa.com/event/free-cpr-training-4/
LOCATION:Thompson Valley EMS\, 4480 Clydesdale Parkway\, Loveland\, CO\, 80538\, United States
CATEGORIES:Free,Health / Safety
END:VEVENT
BEGIN:VEVENT
DTSTART;TZID=America/Denver:20151013T173000
DTEND;TZID=America/Denver:20151013T210000
DTSTAMP:20260423T095532
CREATED:20150330T050509Z
LAST-MODIFIED:20150330T050509Z
UID:523-1444757400-1444770000@www.timberridge-hoa.com
SUMMARY:Free CPR Training
DESCRIPTION:As part of their Heart Safe Community Campaign\, the McKee Medical Center Foundation is covering the cost of 2015 CPR training sessions with the Thompson Valley EMS ambulance service for interested individuals. Their goal is to ensure that community members are trained in CPR – including those who may not be able to cover the cost of training. \nClasses are limited to 15 people. Fees will be waived during 2015. \nRegister online at www.tvems.com > Education > Class Registration.
URL:https://www.timberridge-hoa.com/event/free-cpr-training-3/
LOCATION:Thompson Valley EMS\, 4480 Clydesdale Parkway\, Loveland\, CO\, 80538\, United States
CATEGORIES:Free,Health / Safety
END:VEVENT
BEGIN:VEVENT
DTSTART;TZID=America/Denver:20150908T173000
DTEND;TZID=America/Denver:20150908T210000
DTSTAMP:20260423T095532
CREATED:20150330T050311Z
LAST-MODIFIED:20150330T050359Z
UID:522-1441733400-1441746000@www.timberridge-hoa.com
SUMMARY:Free CPR Training
DESCRIPTION:As part of their Heart Safe Community Campaign\, the McKee Medical Center Foundation is covering the cost of 2015 CPR training sessions with the Thompson Valley EMS ambulance service for interested individuals. Their goal is to ensure that community members are trained in CPR – including those who may not be able to cover the cost of training. \nClasses are limited to 15 people. Fees will be waived during 2015. \nRegister online at www.tvems.com > Education > Class Registration.
URL:https://www.timberridge-hoa.com/event/free-cpr-training-2/
LOCATION:Thompson Valley EMS\, 4480 Clydesdale Parkway\, Loveland\, CO\, 80538\, United States
CATEGORIES:Free,Health / Safety
END:VEVENT
BEGIN:VEVENT
DTSTART;TZID=America/Denver:20150811T173000
DTEND;TZID=America/Denver:20150811T210000
DTSTAMP:20260423T095532
CREATED:20150330T050127Z
LAST-MODIFIED:20150330T050417Z
UID:519-1439314200-1439326800@www.timberridge-hoa.com
SUMMARY:Free CPR Training
DESCRIPTION:As part of their Heart Safe Community Campaign\, the McKee Medical Center Foundation is covering the cost of 2015 CPR training sessions with the Thompson Valley EMS ambulance service for interested individuals. Their goal is to ensure that community members are trained in CPR – including those who may not be able to cover the cost of training. \nClasses are limited to 15 people. Fees will be waived during 2015. \nRegister online at www.tvems.com > Education > Class Registration.
URL:https://www.timberridge-hoa.com/event/free-cpr-training/
LOCATION:Thompson Valley EMS\, 4480 Clydesdale Parkway\, Loveland\, CO\, 80538\, United States
CATEGORIES:Free,Health / Safety
END:VEVENT
BEGIN:VEVENT
DTSTART;TZID=America/Denver:20150716T190000
DTEND;TZID=America/Denver:20150716T203000
DTSTAMP:20260423T095532
CREATED:20150123T064219Z
LAST-MODIFIED:20150123T064219Z
UID:443-1437073200-1437078600@www.timberridge-hoa.com
SUMMARY:HOA Board of Directors Meeting
DESCRIPTION:Learn more about the issues our HOA faces and participate in the changes to your community! We invite all HOA members to come.
URL:https://www.timberridge-hoa.com/event/hoa-board-directors-meeting-4/
LOCATION:Severance Town Hall\, 3 Timber Ridge Parkway\, Severance\, CO\, 80550\, United States
CATEGORIES:HOA Meeting
END:VEVENT
BEGIN:VEVENT
DTSTART;TZID=America/Denver:20150620T080000
DTEND;TZID=America/Denver:20150620T150000
DTSTAMP:20260423T095532
CREATED:20150606T012429Z
LAST-MODIFIED:20150606T012429Z
UID:541-1434787200-1434812400@www.timberridge-hoa.com
SUMMARY:Timber Ridge Neighborhood Garage Sale
DESCRIPTION:Join the Timber Ridge neighborhood garage/yard sale! This is a great opportunity to re-home your treasures and make a little summer cash! If you have large items or items that you feel would garner additional interest\, please text or call Stacey (contact info below) and she will add them to the ad on Craigslist and Facebook sale groups. \nEveryone is welcome to participate…both buying and selling! \nIf you have any questions or feel you have ideas that can help make this event more successful\, please text or call Stacey (contact info below). She is looking for people willing to make signs and post them around our neighborhood and town prior to the sale. \nWe look forward to seeing you out and about…until then\, please spread the word!
URL:https://www.timberridge-hoa.com/event/timber-ridge-neighborhood-garage-sale/
LOCATION:CO
CATEGORIES:Family-Friendly
END:VEVENT
BEGIN:VEVENT
DTSTART;TZID=America/Denver:20150613T090000
DTEND;TZID=America/Denver:20150613T110000
DTSTAMP:20260423T095532
CREATED:20150607T020102Z
LAST-MODIFIED:20150607T020102Z
UID:548-1434186000-1434193200@www.timberridge-hoa.com
SUMMARY:Free Deck & Patio Cover Workshop
DESCRIPTION:Do you want to construct a deck or patio cover? \nDo you know the steps that need to be taken? \nFind out how to construct a deck or patio cover from the professionals! The Town of Severance and SAFEbuilt Inspection Agency can explain the codes required\, the steps that need to be taken and the proper way to complete those steps to construct a deck or patio cover like the professionals.
URL:https://www.timberridge-hoa.com/event/free-deck-patio-cover-workshop/
LOCATION:Severance Town Hall\, 3 Timber Ridge Parkway\, Severance\, CO\, 80550\, United States
CATEGORIES:Free,Workshop
END:VEVENT
BEGIN:VEVENT
DTSTART;TZID=America/Denver:20150502T070000
DTEND;TZID=America/Denver:20150502T150000
DTSTAMP:20260423T095532
CREATED:20150405T193514Z
LAST-MODIFIED:20150405T193514Z
UID:531-1430550000-1430578800@www.timberridge-hoa.com
SUMMARY:Clean-up Day
DESCRIPTION:The Town of Severance’s annual clean-up day is May 2 from 7am – 3pm\, including: \n\nShredding truck from 9-11am\nARC clothing and small items donations\nIron recycling\nTrash truck\n\nThe collection point is at the lot by the elevator: WCR 23 and 3rd Avenue (north of Bruce’s Bar). Proof of residence (water bill or driver’s license) is required. \nResidents who need help hauling large items such as furniture or appliances may call Town Hall at 970-686-1218 before May 1 to arrange for pick up. All items must be out by the curb. NO TRASH will be picked up…only LARGE items. \nThe town can no longer accept household hazardous waste. NO cleaners\, paints\, batteries\, aerosols\, motor oil\, oil filters\, antifreeze\, gasoline\, pesticides\, tires\, TVs\, computers or any type of electronics will be accepted. \nHousehold hazardous waste must be taken to: \n1311 N. 17th Avenue\, Greeley\n970-304-6415 x2233\nTuesdays and Saturdays\n8am – 5pm \nOR \n5500 Hwy 52\, Dacono\n720-652-4200 x2233\nFridays\, 1st and 3rd Saturdays\n9am – 4pm \nFor more information\, please contact the Town of Severance.
URL:https://www.timberridge-hoa.com/event/clean-up-day/
LOCATION:Elevator\, 152 Railroad (3rd) Ave\, Severance\, CO\, 80550\, United States
CATEGORIES:Free
END:VEVENT
BEGIN:VEVENT
DTSTART;TZID=America/Denver:20150413T160000
DTEND;TZID=America/Denver:20150413T190000
DTSTAMP:20260423T095532
CREATED:20150308T000812Z
LAST-MODIFIED:20150308T000812Z
UID:506-1428940800-1428951600@www.timberridge-hoa.com
SUMMARY:Tax Return Preparation (FREE if you qualify!)
DESCRIPTION:MakeChanges NoCo’s IRS-Certified tax volunteers from  will be at the Clearview Library EVERY Monday evening from 4-7pm through April 13th on a first-come\, first-served basis to provide free tax preparation.* (Reservations are not accepted.) \nReturns will not be processed on-site; therefore\, follow-up appointments will be scheduled. \n*You may be eligible to receive free tax preparation if you: \n\nAre age 59 or under with income up to $57\,000\nAre 60 years or older\nAre home-bound or have special needs\nAre a Non-Resident Alien\, with or without an ITIN or SSN.\n\n 
URL:https://www.timberridge-hoa.com/event/tax-return-preparation-free-if-you-qualify-6/
LOCATION:Clearview Library\, 720 3rd Street\, Windsor\, CO\, 80550\, United States
CATEGORIES:Free
ORGANIZER;CN="MakeChanges NoCo":MAILTO:info@makechangenoco.com
END:VEVENT
BEGIN:VEVENT
DTSTART;TZID=America/Denver:20150406T160000
DTEND;TZID=America/Denver:20150406T190000
DTSTAMP:20260423T095532
CREATED:20150308T000715Z
LAST-MODIFIED:20150308T000715Z
UID:505-1428336000-1428346800@www.timberridge-hoa.com
SUMMARY:Tax Return Preparation (FREE if you qualify!)
DESCRIPTION:MakeChanges NoCo’s IRS-Certified tax volunteers from  will be at the Clearview Library EVERY Monday evening from 4-7pm through April 13th on a first-come\, first-served basis to provide free tax preparation.* (Reservations are not accepted.) \nReturns will not be processed on-site; therefore\, follow-up appointments will be scheduled. \n*You may be eligible to receive free tax preparation if you: \n\nAre age 59 or under with income up to $57\,000\nAre 60 years or older\nAre home-bound or have special needs\nAre a Non-Resident Alien\, with or without an ITIN or SSN.\n\n 
URL:https://www.timberridge-hoa.com/event/tax-return-preparation-free-if-you-qualify-5/
LOCATION:Clearview Library\, 720 3rd Street\, Windsor\, CO\, 80550\, United States
CATEGORIES:Free
ORGANIZER;CN="MakeChanges NoCo":MAILTO:info@makechangenoco.com
END:VEVENT
BEGIN:VEVENT
DTSTART;TZID=America/Denver:20150404T100000
DTEND;TZID=America/Denver:20150404T120000
DTSTAMP:20260423T095532
CREATED:20150304T200256Z
LAST-MODIFIED:20150304T200803Z
UID:489-1428141600-1428148800@www.timberridge-hoa.com
SUMMARY:10th Annual Town of Severance Easter Egg Hunt
DESCRIPTION:Come join the fun at the 10th annual Town of Severance Easter Egg Hunt!* \nEach age group will start at a different time\, starting with the youngest age group first so that parents with multiple children can attend each hunt. \nAge groups are as follows: \n\n1-2 years old\n3-4 years old\n5-7 years old\n8-10 years old\n\nOne egg in each age group will contain a slip of paper for a Grand Prize! \nNote: Please remember to recycle the plastic eggs – we will provide boxes for recycling. \n*All children must be accompanied by a parent or guardian. \nSee you there!
URL:https://www.timberridge-hoa.com/event/10th-annual-town-of-severance-easter-egg-hunt/
LOCATION:CO
CATEGORIES:Family-Friendly,Free,Kids
ATTACH;FMTTYPE=image/jpeg:https://www.timberridge-hoa.com/wp-content/uploads/easter-egg-hunt.jpg
END:VEVENT
END:VCALENDAR