BEGIN:VCALENDAR
VERSION:2.0
PRODID:-//Timber Ridge Homeowners Association - ECPv6.15.17//NONSGML v1.0//EN
CALSCALE:GREGORIAN
METHOD:PUBLISH
X-WR-CALNAME:Timber Ridge Homeowners Association
X-ORIGINAL-URL:https://www.timberridge-hoa.com
X-WR-CALDESC:Events for Timber Ridge Homeowners Association
REFRESH-INTERVAL;VALUE=DURATION:PT1H
X-Robots-Tag:noindex
X-PUBLISHED-TTL:PT1H
BEGIN:VTIMEZONE
TZID:America/Denver
BEGIN:DAYLIGHT
TZOFFSETFROM:-0700
TZOFFSETTO:-0600
TZNAME:MDT
DTSTART:20130310T090000
END:DAYLIGHT
BEGIN:STANDARD
TZOFFSETFROM:-0600
TZOFFSETTO:-0700
TZNAME:MST
DTSTART:20131103T080000
END:STANDARD
BEGIN:DAYLIGHT
TZOFFSETFROM:-0700
TZOFFSETTO:-0600
TZNAME:MDT
DTSTART:20140309T090000
END:DAYLIGHT
BEGIN:STANDARD
TZOFFSETFROM:-0600
TZOFFSETTO:-0700
TZNAME:MST
DTSTART:20141102T080000
END:STANDARD
BEGIN:DAYLIGHT
TZOFFSETFROM:-0700
TZOFFSETTO:-0600
TZNAME:MDT
DTSTART:20150308T090000
END:DAYLIGHT
BEGIN:STANDARD
TZOFFSETFROM:-0600
TZOFFSETTO:-0700
TZNAME:MST
DTSTART:20151101T080000
END:STANDARD
BEGIN:DAYLIGHT
TZOFFSETFROM:-0700
TZOFFSETTO:-0600
TZNAME:MDT
DTSTART:20160313T090000
END:DAYLIGHT
BEGIN:STANDARD
TZOFFSETFROM:-0600
TZOFFSETTO:-0700
TZNAME:MST
DTSTART:20161106T080000
END:STANDARD
END:VTIMEZONE
BEGIN:VEVENT
DTSTART;TZID=America/Denver:20150330T160000
DTEND;TZID=America/Denver:20150330T190000
DTSTAMP:20260423T135142
CREATED:20150308T000626Z
LAST-MODIFIED:20150308T000626Z
UID:504-1427731200-1427742000@www.timberridge-hoa.com
SUMMARY:Tax Return Preparation (FREE if you qualify!)
DESCRIPTION:MakeChanges NoCo’s IRS-Certified tax volunteers from  will be at the Clearview Library EVERY Monday evening from 4-7pm through April 13th on a first-come\, first-served basis to provide free tax preparation.* (Reservations are not accepted.) \nReturns will not be processed on-site; therefore\, follow-up appointments will be scheduled. \n*You may be eligible to receive free tax preparation if you: \n\nAre age 59 or under with income up to $57\,000\nAre 60 years or older\nAre home-bound or have special needs\nAre a Non-Resident Alien\, with or without an ITIN or SSN.\n\n 
URL:https://www.timberridge-hoa.com/event/tax-return-preparation-free-if-you-qualify-4/
LOCATION:Clearview Library\, 720 3rd Street\, Windsor\, CO\, 80550\, United States
CATEGORIES:Free
ORGANIZER;CN="MakeChanges NoCo":MAILTO:info@makechangenoco.com
END:VEVENT
BEGIN:VEVENT
DTSTART;TZID=America/Denver:20150327T160000
DTEND;TZID=America/Denver:20150327T170000
DTSTAMP:20260423T135142
CREATED:20150206T010551Z
LAST-MODIFIED:20150206T010551Z
UID:462-1427472000-1427475600@www.timberridge-hoa.com
SUMMARY:Lego Club
DESCRIPTION:Come play with Legos and bring your friends and family! Library Legos will be provided…just bring your imagination!
URL:https://www.timberridge-hoa.com/event/lego-club-6/
LOCATION:Severance Town Hall\, 3 Timber Ridge Parkway\, Severance\, CO\, 80550\, United States
CATEGORIES:Family-Friendly,Free,Kids
ATTACH;FMTTYPE=image/jpeg:https://www.timberridge-hoa.com/wp-content/uploads/lego-club.jpg
END:VEVENT
BEGIN:VEVENT
DTSTART;TZID=America/Denver:20150326T190000
DTEND;TZID=America/Denver:20150326T203000
DTSTAMP:20260423T135142
CREATED:20150123T063949Z
LAST-MODIFIED:20150123T063949Z
UID:442-1427396400-1427401800@www.timberridge-hoa.com
SUMMARY:HOA Board of Directors Meeting
DESCRIPTION:Learn more about the issues our HOA faces and participate in the changes to your community! We invite all HOA members to come.
URL:https://www.timberridge-hoa.com/event/hoa-board-directors-meeting-3/
LOCATION:Severance Town Hall\, 3 Timber Ridge Parkway\, Severance\, CO\, 80550\, United States
CATEGORIES:HOA Meeting
END:VEVENT
BEGIN:VEVENT
DTSTART;TZID=America/Denver:20150323T160000
DTEND;TZID=America/Denver:20150323T190000
DTSTAMP:20260423T135142
CREATED:20150308T000523Z
LAST-MODIFIED:20150308T000523Z
UID:503-1427126400-1427137200@www.timberridge-hoa.com
SUMMARY:Tax Return Preparation (FREE if you qualify!)
DESCRIPTION:MakeChanges NoCo’s IRS-Certified tax volunteers from  will be at the Clearview Library EVERY Monday evening from 4-7pm through April 13th on a first-come\, first-served basis to provide free tax preparation.* (Reservations are not accepted.) \nReturns will not be processed on-site; therefore\, follow-up appointments will be scheduled. \n*You may be eligible to receive free tax preparation if you: \n\nAre age 59 or under with income up to $57\,000\nAre 60 years or older\nAre home-bound or have special needs\nAre a Non-Resident Alien\, with or without an ITIN or SSN.\n\n 
URL:https://www.timberridge-hoa.com/event/tax-return-preparation-free-if-you-qualify-3/
LOCATION:Clearview Library\, 720 3rd Street\, Windsor\, CO\, 80550\, United States
CATEGORIES:Free
ORGANIZER;CN="MakeChanges NoCo":MAILTO:info@makechangenoco.com
END:VEVENT
BEGIN:VEVENT
DTSTART;TZID=America/Denver:20150316T160000
DTEND;TZID=America/Denver:20150316T190000
DTSTAMP:20260423T135142
CREATED:20150308T000445Z
LAST-MODIFIED:20150308T000543Z
UID:502-1426521600-1426532400@www.timberridge-hoa.com
SUMMARY:Tax Return Preparation (FREE if you qualify!)
DESCRIPTION:MakeChanges NoCo’s IRS-Certified tax volunteers from  will be at the Clearview Library EVERY Monday evening from 4-7pm through April 13th on a first-come\, first-served basis to provide free tax preparation.* (Reservations are not accepted.) \nReturns will not be processed on-site; therefore\, follow-up appointments will be scheduled. \n*You may be eligible to receive free tax preparation if you: \n\nAre age 59 or under with income up to $57\,000\nAre 60 years or older\nAre home-bound or have special needs\nAre a Non-Resident Alien\, with or without an ITIN or SSN.\n\n 
URL:https://www.timberridge-hoa.com/event/tax-return-preparation-free-if-you-qualify-2/
LOCATION:Clearview Library\, 720 3rd Street\, Windsor\, CO\, 80550\, United States
CATEGORIES:Free
ORGANIZER;CN="MakeChanges NoCo":MAILTO:info@makechangenoco.com
END:VEVENT
BEGIN:VEVENT
DTSTART;TZID=America/Denver:20150313T160000
DTEND;TZID=America/Denver:20150313T170000
DTSTAMP:20260423T135142
CREATED:20150206T010511Z
LAST-MODIFIED:20150206T010511Z
UID:461-1426262400-1426266000@www.timberridge-hoa.com
SUMMARY:Lego Club
DESCRIPTION:Come play with Legos and bring your friends and family! Library Legos will be provided…just bring your imagination!
URL:https://www.timberridge-hoa.com/event/lego-club-5/
LOCATION:Severance Town Hall\, 3 Timber Ridge Parkway\, Severance\, CO\, 80550\, United States
CATEGORIES:Family-Friendly,Free,Kids
ATTACH;FMTTYPE=image/jpeg:https://www.timberridge-hoa.com/wp-content/uploads/lego-club.jpg
END:VEVENT
BEGIN:VEVENT
DTSTART;TZID=America/Denver:20150313T160000
DTEND;TZID=America/Denver:20150313T164500
DTSTAMP:20260423T135142
CREATED:20150313T042953Z
LAST-MODIFIED:20150313T042953Z
UID:514-1426262400-1426265100@www.timberridge-hoa.com
SUMMARY:Science in Severance
DESCRIPTION:Courtesy of Clearview Library\, K-8th graders are invited to become scientists and participate in a variety of fun science experiments at Severance Town Hall! \nNo registration is required. \nSee you there!
URL:https://www.timberridge-hoa.com/event/science-in-severance/
LOCATION:Severance Town Hall\, 3 Timber Ridge Parkway\, Severance\, CO\, 80550\, United States
CATEGORIES:Free,Kids,School-Related
ATTACH;FMTTYPE=image/png:https://www.timberridge-hoa.com/wp-content/uploads/science-in-severance.png
END:VEVENT
BEGIN:VEVENT
DTSTART;TZID=America/Denver:20150309T160000
DTEND;TZID=America/Denver:20150309T190000
DTSTAMP:20260423T135142
CREATED:20150307T235911Z
LAST-MODIFIED:20150308T000406Z
UID:497-1425916800-1425927600@www.timberridge-hoa.com
SUMMARY:Tax Return Preparation (FREE if you qualify!)
DESCRIPTION:MakeChanges NoCo’s IRS-Certified tax volunteers from  will be at the Clearview Library EVERY Monday evening from 4-7pm through April 13th on a first-come\, first-served basis to provide free tax preparation.* (Reservations are not accepted.) Returns will not be processed on-site; therefore\, follow-up appointments will be scheduled. *You may be eligible to receive free tax preparation if you: \n\nAre age 59 or under with income up to $57\,000\nAre 60 years or older\nAre home-bound or have special needs\nAre a Non-Resident Alien\, with or without an ITIN or SSN.\n\n 
URL:https://www.timberridge-hoa.com/event/tax-return-preparation-free-if-you-qualify/
LOCATION:Clearview Library\, 720 3rd Street\, Windsor\, CO\, 80550\, United States
CATEGORIES:Free
ORGANIZER;CN="MakeChanges NoCo":MAILTO:info@makechangenoco.com
END:VEVENT
BEGIN:VEVENT
DTSTART;TZID=America/Denver:20150227T160000
DTEND;TZID=America/Denver:20150227T170000
DTSTAMP:20260423T135142
CREATED:20141218T015107Z
LAST-MODIFIED:20141218T015107Z
UID:391-1425052800-1425056400@www.timberridge-hoa.com
SUMMARY:Lego Club
DESCRIPTION:Come play with Legos and bring your friends and family! Library Legos will be provided…just bring your imagination!
URL:https://www.timberridge-hoa.com/event/lego-club-4/
LOCATION:Severance Town Hall\, 3 Timber Ridge Parkway\, Severance\, CO\, 80550\, United States
CATEGORIES:Family-Friendly,Free,Kids
ATTACH;FMTTYPE=image/jpeg:https://www.timberridge-hoa.com/wp-content/uploads/lego-club.jpg
END:VEVENT
BEGIN:VEVENT
DTSTART;TZID=America/Denver:20150213T160000
DTEND;TZID=America/Denver:20150213T170000
DTSTAMP:20260423T135142
CREATED:20141218T015036Z
LAST-MODIFIED:20141218T015036Z
UID:390-1423843200-1423846800@www.timberridge-hoa.com
SUMMARY:Lego Club
DESCRIPTION:Come play with Legos and bring your friends and family! Library Legos will be provided…just bring your imagination!
URL:https://www.timberridge-hoa.com/event/lego-club-3/
LOCATION:Severance Town Hall\, 3 Timber Ridge Parkway\, Severance\, CO\, 80550\, United States
CATEGORIES:Family-Friendly,Free,Kids
ATTACH;FMTTYPE=image/jpeg:https://www.timberridge-hoa.com/wp-content/uploads/lego-club.jpg
END:VEVENT
BEGIN:VEVENT
DTSTART;TZID=America/Denver:20150130T160000
DTEND;TZID=America/Denver:20150130T170000
DTSTAMP:20260423T135142
CREATED:20141218T015019Z
LAST-MODIFIED:20141218T015019Z
UID:389-1422633600-1422637200@www.timberridge-hoa.com
SUMMARY:Lego Club
DESCRIPTION:Come play with Legos and bring your friends and family! Library Legos will be provided…just bring your imagination!
URL:https://www.timberridge-hoa.com/event/lego-club-2/
LOCATION:Severance Town Hall\, 3 Timber Ridge Parkway\, Severance\, CO\, 80550\, United States
CATEGORIES:Family-Friendly,Free,Kids
ATTACH;FMTTYPE=image/jpeg:https://www.timberridge-hoa.com/wp-content/uploads/lego-club.jpg
END:VEVENT
BEGIN:VEVENT
DTSTART;TZID=America/Denver:20150122T180000
DTEND;TZID=America/Denver:20150122T193000
DTSTAMP:20260423T135142
CREATED:20150108T183652Z
LAST-MODIFIED:20150108T183652Z
UID:415-1421949600-1421955000@www.timberridge-hoa.com
SUMMARY:HOA Board of Directors Meeting
DESCRIPTION:Learn more about the issues our HOA faces and participate in the changes to your community! We invite all HOA members to come.
URL:https://www.timberridge-hoa.com/event/hoa-board-directors-meeting-2/
LOCATION:Severance Town Hall\, 3 Timber Ridge Parkway\, Severance\, CO\, 80550\, United States
CATEGORIES:HOA Meeting
END:VEVENT
BEGIN:VEVENT
DTSTART;TZID=America/Denver:20150116T160000
DTEND;TZID=America/Denver:20150116T170000
DTSTAMP:20260423T135142
CREATED:20141218T014905Z
LAST-MODIFIED:20141218T014938Z
UID:386-1421424000-1421427600@www.timberridge-hoa.com
SUMMARY:Lego Club
DESCRIPTION:Come play with Legos and bring your friends and family! Library Legos will be provided…just bring your imagination!
URL:https://www.timberridge-hoa.com/event/lego-club/
LOCATION:Severance Town Hall\, 3 Timber Ridge Parkway\, Severance\, CO\, 80550\, United States
CATEGORIES:Family-Friendly,Free,Kids
ATTACH;FMTTYPE=image/jpeg:https://www.timberridge-hoa.com/wp-content/uploads/lego-club.jpg
END:VEVENT
BEGIN:VEVENT
DTSTART;TZID=America/Denver:20150107T181500
DTEND;TZID=America/Denver:20150107T191500
DTSTAMP:20260423T135142
CREATED:20141102T174551Z
LAST-MODIFIED:20141106T231958Z
UID:364-1420654500-1420658100@www.timberridge-hoa.com
SUMMARY:2015 Annual Homeowner Meeting
DESCRIPTION:Current HOA projects\, homeowner concerns\, and HOA Board nominations will be addressed.
URL:https://www.timberridge-hoa.com/event/2015-annual-homeowner-meeting/
LOCATION:Range View Elementary\, 700 Ponderosa Drive\, Severance\, CO\, 80550\, United States
CATEGORIES:HOA Meeting
END:VEVENT
BEGIN:VEVENT
DTSTART;TZID=America/Denver:20141206T150000
DTEND;TZID=America/Denver:20141206T190000
DTSTAMP:20260423T135142
CREATED:20141102T175800Z
LAST-MODIFIED:20141128T224215Z
UID:367-1417878000-1417892400@www.timberridge-hoa.com
SUMMARY:Town of Severance Christmas Open House
DESCRIPTION:Join us at our first Christmas Open House at our new Town Hall! Chili and refreshments (including hot chocolate) will be served. \nSanta Claus will be there from 3-6pm! \nFireworks at 7pm! \nFor continuing updates\, check the Town of Severance website.
URL:https://www.timberridge-hoa.com/event/town-severance-christmas-open-house/
LOCATION:Severance Town Hall\, 3 Timber Ridge Parkway\, Severance\, CO\, 80550\, United States
CATEGORIES:Family-Friendly,Free,Kids,Open House
END:VEVENT
BEGIN:VEVENT
DTSTART;VALUE=DATE:20141104
DTEND;VALUE=DATE:20141105
DTSTAMP:20260423T135142
CREATED:20141102T175054Z
LAST-MODIFIED:20141102T175113Z
UID:365-1415059200-1415145599@www.timberridge-hoa.com
SUMMARY:Vote!
DESCRIPTION:Don’t forget to vote by November 4th!
URL:https://www.timberridge-hoa.com/event/vote/
LOCATION:CO
END:VEVENT
BEGIN:VEVENT
DTSTART;VALUE=DATE:20141101
DTEND;VALUE=DATE:20141217
DTSTAMP:20260423T135142
CREATED:20141022T033812Z
LAST-MODIFIED:20141022T033812Z
UID:338-1414800000-1418774399@www.timberridge-hoa.com
SUMMARY:Toys for Tots Drive
DESCRIPTION:Check out this post to learn more about participating in this event! Drop off at the location below\, or use this form to set up a pickup time.
URL:https://www.timberridge-hoa.com/event/toys-tots-drive/
LOCATION:All Property Services Office\, 1630 South College Avenue\, Fort Collins\, CO\, 80525\, United States
CATEGORIES:Family-Friendly,Kids
ATTACH;FMTTYPE=image/png:https://www.timberridge-hoa.com/wp-content/uploads/marine-corps-reserve-toys-for-tots-drive.png
END:VEVENT
BEGIN:VEVENT
DTSTART;TZID=America/Denver:20141016T173000
DTEND;TZID=America/Denver:20141016T193000
DTSTAMP:20260423T135142
CREATED:20140801T160646Z
LAST-MODIFIED:20141001T153025Z
UID:240-1413480600-1413487800@www.timberridge-hoa.com
SUMMARY:HOA Board of Directors Meeting
DESCRIPTION:Learn more about the issues our HOA faces and participate in the changes to your community!
URL:https://www.timberridge-hoa.com/event/hoa-board-directors-meeting/
LOCATION:Severance Town Hall\, 3 Timber Ridge Parkway\, Severance\, CO\, 80550\, United States
CATEGORIES:HOA Meeting
END:VEVENT
BEGIN:VEVENT
DTSTART;TZID=America/Denver:20140829T144500
DTEND;TZID=America/Denver:20140829T153000
DTSTAMP:20260423T135142
CREATED:20140628T065348Z
LAST-MODIFIED:20140628T065348Z
UID:93-1409323500-1409326200@www.timberridge-hoa.com
SUMMARY:Clearview Mobile Library
DESCRIPTION:All stops are open to the public. The BoMo brings you books\, movies\, internet access\, crafts\, storytimes and helpful staff!
URL:https://www.timberridge-hoa.com/event/clearview-mobile-library-10/
LOCATION:Range View Elementary\, 700 Ponderosa Drive\, Severance\, CO\, 80550\, United States
CATEGORIES:Family-Friendly,Kids
END:VEVENT
BEGIN:VEVENT
DTSTART;TZID=America/Denver:20140822T144500
DTEND;TZID=America/Denver:20140822T153000
DTSTAMP:20260423T135142
CREATED:20140628T065322Z
LAST-MODIFIED:20140628T065322Z
UID:92-1408718700-1408721400@www.timberridge-hoa.com
SUMMARY:Clearview Mobile Library
DESCRIPTION:All stops are open to the public. The BoMo brings you books\, movies\, internet access\, crafts\, storytimes and helpful staff!
URL:https://www.timberridge-hoa.com/event/clearview-mobile-library-9/
LOCATION:Range View Elementary\, 700 Ponderosa Drive\, Severance\, CO\, 80550\, United States
CATEGORIES:Family-Friendly,Kids
END:VEVENT
BEGIN:VEVENT
DTSTART;VALUE=DATE:20140822
DTEND;VALUE=DATE:20140823
DTSTAMP:20260423T135142
CREATED:20140702T030620Z
LAST-MODIFIED:20140702T030647Z
UID:198-1408665600-1408751999@www.timberridge-hoa.com
SUMMARY:Range View Elementary School Starts (Preschool)
DESCRIPTION:Welcome to school!
URL:https://www.timberridge-hoa.com/event/range-view-elementary-school-starts-preschool/
LOCATION:Range View Elementary\, 700 Ponderosa Drive\, Severance\, CO\, 80550\, United States
CATEGORIES:School-Related
END:VEVENT
BEGIN:VEVENT
DTSTART;VALUE=DATE:20140818
DTEND;VALUE=DATE:20140819
DTSTAMP:20260423T135142
CREATED:20140702T030520Z
LAST-MODIFIED:20140702T030520Z
UID:197-1408320000-1408406399@www.timberridge-hoa.com
SUMMARY:Range View Elementary School Starts (Kindergarten)
DESCRIPTION:Welcome to school!
URL:https://www.timberridge-hoa.com/event/range-view-elementary-school-starts-kindergarten/
LOCATION:Range View Elementary
CATEGORIES:School-Related
END:VEVENT
BEGIN:VEVENT
DTSTART;TZID=America/Denver:20140815T144500
DTEND;TZID=America/Denver:20140815T153000
DTSTAMP:20260423T135142
CREATED:20140628T065254Z
LAST-MODIFIED:20140628T065254Z
UID:91-1408113900-1408116600@www.timberridge-hoa.com
SUMMARY:Clearview Mobile Library
DESCRIPTION:All stops are open to the public. The BoMo brings you books\, movies\, internet access\, crafts\, storytimes and helpful staff!
URL:https://www.timberridge-hoa.com/event/clearview-mobile-library-8/
LOCATION:Range View Elementary\, 700 Ponderosa Drive\, Severance\, CO\, 80550\, United States
CATEGORIES:Family-Friendly,Kids
END:VEVENT
BEGIN:VEVENT
DTSTART;VALUE=DATE:20140815
DTEND;VALUE=DATE:20140817
DTSTAMP:20260423T135142
CREATED:20140628T070259Z
LAST-MODIFIED:20140628T070259Z
UID:96-1408060800-1408233599@www.timberridge-hoa.com
SUMMARY:Severance Days
DESCRIPTION:19th Annual Agricultural Celebration!
URL:https://www.timberridge-hoa.com/event/severance-days/
LOCATION:CO
CATEGORIES:5K Walk/Run,Family-Friendly
END:VEVENT
BEGIN:VEVENT
DTSTART;VALUE=DATE:20140814
DTEND;VALUE=DATE:20140815
DTSTAMP:20260423T135142
CREATED:20140702T031138Z
LAST-MODIFIED:20140702T031138Z
UID:200-1407974400-1408060799@www.timberridge-hoa.com
SUMMARY:Windsor High School Starts
DESCRIPTION:Welcome back to school!
URL:https://www.timberridge-hoa.com/event/windsor-high-school-starts/
LOCATION:Windsor High School\, 1100 Main Street\, Windsor\, CO\, 80550\, United States
CATEGORIES:School-Related
END:VEVENT
BEGIN:VEVENT
DTSTART;VALUE=DATE:20140814
DTEND;VALUE=DATE:20140815
DTSTAMP:20260423T135142
CREATED:20140702T030352Z
LAST-MODIFIED:20140702T030352Z
UID:195-1407974400-1408060799@www.timberridge-hoa.com
SUMMARY:Range View Elementary School Starts (1st - 5th graders)
DESCRIPTION:Welcome back to school!
URL:https://www.timberridge-hoa.com/event/range-view-elementary-school-starts-1st-5th-graders/
LOCATION:Range View Elementary
CATEGORIES:School-Related
END:VEVENT
BEGIN:VEVENT
DTSTART;VALUE=DATE:20140814
DTEND;VALUE=DATE:20140815
DTSTAMP:20260423T135142
CREATED:20140702T011428Z
LAST-MODIFIED:20140702T011428Z
UID:193-1407974400-1408060799@www.timberridge-hoa.com
SUMMARY:Junior High School Starts
DESCRIPTION:Severance Middle School classes begin! School hours are from 7:45am – 3pm.
URL:https://www.timberridge-hoa.com/event/junior-high-school-starts/
LOCATION:Severance Middle School
CATEGORIES:School-Related
END:VEVENT
BEGIN:VEVENT
DTSTART;TZID=America/Denver:20140812T093000
DTEND;TZID=America/Denver:20140812T120000
DTSTAMP:20260423T135142
CREATED:20140628T065100Z
LAST-MODIFIED:20140628T065100Z
UID:89-1407835800-1407844800@www.timberridge-hoa.com
SUMMARY:Clearview Mobile Library
DESCRIPTION:All stops are open to the public. The BoMo brings you books\, movies\, internet access\, crafts\, storytimes and helpful staff!
URL:https://www.timberridge-hoa.com/event/clearview-mobile-library-7/
LOCATION:CO
CATEGORIES:Family-Friendly,Kids
END:VEVENT
BEGIN:VEVENT
DTSTART;TZID=America/Denver:20140805T100000
DTEND;TZID=America/Denver:20140805T103000
DTSTAMP:20260423T135142
CREATED:20140628T064137Z
LAST-MODIFIED:20140628T064137Z
UID:79-1407232800-1407234600@www.timberridge-hoa.com
SUMMARY:Storytime in Severance
DESCRIPTION:Storytime in Severance with Miss Clare! Provided by the Clearview Library District
URL:https://www.timberridge-hoa.com/event/storytime-in-severance-6/
LOCATION:CO
CATEGORIES:Kids
END:VEVENT
BEGIN:VEVENT
DTSTART;TZID=America/Denver:20140805T093000
DTEND;TZID=America/Denver:20140805T120000
DTSTAMP:20260423T135142
CREATED:20140628T065039Z
LAST-MODIFIED:20140628T065039Z
UID:88-1407231000-1407240000@www.timberridge-hoa.com
SUMMARY:Clearview Mobile Library
DESCRIPTION:All stops are open to the public. The BoMo brings you books\, movies\, internet access\, crafts\, storytimes and helpful staff!
URL:https://www.timberridge-hoa.com/event/clearview-mobile-library-6/
LOCATION:CO
CATEGORIES:Family-Friendly,Kids
END:VEVENT
END:VCALENDAR