BEGIN:VCALENDAR
VERSION:2.0
PRODID:-//Timber Ridge Homeowners Association - ECPv6.15.17//NONSGML v1.0//EN
CALSCALE:GREGORIAN
METHOD:PUBLISH
X-ORIGINAL-URL:https://www.timberridge-hoa.com
X-WR-CALDESC:Events for Timber Ridge Homeowners Association
REFRESH-INTERVAL;VALUE=DURATION:PT1H
X-Robots-Tag:noindex
X-PUBLISHED-TTL:PT1H
BEGIN:VTIMEZONE
TZID:America/Denver
BEGIN:DAYLIGHT
TZOFFSETFROM:-0700
TZOFFSETTO:-0600
TZNAME:MDT
DTSTART:20130310T090000
END:DAYLIGHT
BEGIN:STANDARD
TZOFFSETFROM:-0600
TZOFFSETTO:-0700
TZNAME:MST
DTSTART:20131103T080000
END:STANDARD
BEGIN:DAYLIGHT
TZOFFSETFROM:-0700
TZOFFSETTO:-0600
TZNAME:MDT
DTSTART:20140309T090000
END:DAYLIGHT
BEGIN:STANDARD
TZOFFSETFROM:-0600
TZOFFSETTO:-0700
TZNAME:MST
DTSTART:20141102T080000
END:STANDARD
BEGIN:DAYLIGHT
TZOFFSETFROM:-0700
TZOFFSETTO:-0600
TZNAME:MDT
DTSTART:20150308T090000
END:DAYLIGHT
BEGIN:STANDARD
TZOFFSETFROM:-0600
TZOFFSETTO:-0700
TZNAME:MST
DTSTART:20151101T080000
END:STANDARD
END:VTIMEZONE
BEGIN:VEVENT
DTSTART;VALUE=DATE:20140822
DTEND;VALUE=DATE:20140823
DTSTAMP:20260423T162357
CREATED:20140702T030620Z
LAST-MODIFIED:20140702T030647Z
UID:198-1408665600-1408751999@www.timberridge-hoa.com
SUMMARY:Range View Elementary School Starts (Preschool)
DESCRIPTION:Welcome to school!
URL:https://www.timberridge-hoa.com/event/range-view-elementary-school-starts-preschool/
LOCATION:Range View Elementary\, 700 Ponderosa Drive\, Severance\, CO\, 80550\, United States
CATEGORIES:School-Related
END:VEVENT
BEGIN:VEVENT
DTSTART;VALUE=DATE:20140818
DTEND;VALUE=DATE:20140819
DTSTAMP:20260423T162357
CREATED:20140702T030520Z
LAST-MODIFIED:20140702T030520Z
UID:197-1408320000-1408406399@www.timberridge-hoa.com
SUMMARY:Range View Elementary School Starts (Kindergarten)
DESCRIPTION:Welcome to school!
URL:https://www.timberridge-hoa.com/event/range-view-elementary-school-starts-kindergarten/
LOCATION:Range View Elementary
CATEGORIES:School-Related
END:VEVENT
BEGIN:VEVENT
DTSTART;TZID=America/Denver:20140815T144500
DTEND;TZID=America/Denver:20140815T153000
DTSTAMP:20260423T162357
CREATED:20140628T065254Z
LAST-MODIFIED:20140628T065254Z
UID:91-1408113900-1408116600@www.timberridge-hoa.com
SUMMARY:Clearview Mobile Library
DESCRIPTION:All stops are open to the public. The BoMo brings you books\, movies\, internet access\, crafts\, storytimes and helpful staff!
URL:https://www.timberridge-hoa.com/event/clearview-mobile-library-8/
LOCATION:Range View Elementary\, 700 Ponderosa Drive\, Severance\, CO\, 80550\, United States
CATEGORIES:Family-Friendly,Kids
END:VEVENT
BEGIN:VEVENT
DTSTART;VALUE=DATE:20140815
DTEND;VALUE=DATE:20140817
DTSTAMP:20260423T162357
CREATED:20140628T070259Z
LAST-MODIFIED:20140628T070259Z
UID:96-1408060800-1408233599@www.timberridge-hoa.com
SUMMARY:Severance Days
DESCRIPTION:19th Annual Agricultural Celebration!
URL:https://www.timberridge-hoa.com/event/severance-days/
LOCATION:CO
CATEGORIES:5K Walk/Run,Family-Friendly
END:VEVENT
BEGIN:VEVENT
DTSTART;VALUE=DATE:20140814
DTEND;VALUE=DATE:20140815
DTSTAMP:20260423T162357
CREATED:20140702T031138Z
LAST-MODIFIED:20140702T031138Z
UID:200-1407974400-1408060799@www.timberridge-hoa.com
SUMMARY:Windsor High School Starts
DESCRIPTION:Welcome back to school!
URL:https://www.timberridge-hoa.com/event/windsor-high-school-starts/
LOCATION:Windsor High School\, 1100 Main Street\, Windsor\, CO\, 80550\, United States
CATEGORIES:School-Related
END:VEVENT
BEGIN:VEVENT
DTSTART;VALUE=DATE:20140814
DTEND;VALUE=DATE:20140815
DTSTAMP:20260423T162357
CREATED:20140702T030352Z
LAST-MODIFIED:20140702T030352Z
UID:195-1407974400-1408060799@www.timberridge-hoa.com
SUMMARY:Range View Elementary School Starts (1st - 5th graders)
DESCRIPTION:Welcome back to school!
URL:https://www.timberridge-hoa.com/event/range-view-elementary-school-starts-1st-5th-graders/
LOCATION:Range View Elementary
CATEGORIES:School-Related
END:VEVENT
BEGIN:VEVENT
DTSTART;VALUE=DATE:20140814
DTEND;VALUE=DATE:20140815
DTSTAMP:20260423T162357
CREATED:20140702T011428Z
LAST-MODIFIED:20140702T011428Z
UID:193-1407974400-1408060799@www.timberridge-hoa.com
SUMMARY:Junior High School Starts
DESCRIPTION:Severance Middle School classes begin! School hours are from 7:45am – 3pm.
URL:https://www.timberridge-hoa.com/event/junior-high-school-starts/
LOCATION:Severance Middle School
CATEGORIES:School-Related
END:VEVENT
BEGIN:VEVENT
DTSTART;TZID=America/Denver:20140812T093000
DTEND;TZID=America/Denver:20140812T120000
DTSTAMP:20260423T162357
CREATED:20140628T065100Z
LAST-MODIFIED:20140628T065100Z
UID:89-1407835800-1407844800@www.timberridge-hoa.com
SUMMARY:Clearview Mobile Library
DESCRIPTION:All stops are open to the public. The BoMo brings you books\, movies\, internet access\, crafts\, storytimes and helpful staff!
URL:https://www.timberridge-hoa.com/event/clearview-mobile-library-7/
LOCATION:CO
CATEGORIES:Family-Friendly,Kids
END:VEVENT
BEGIN:VEVENT
DTSTART;TZID=America/Denver:20140805T100000
DTEND;TZID=America/Denver:20140805T103000
DTSTAMP:20260423T162357
CREATED:20140628T064137Z
LAST-MODIFIED:20140628T064137Z
UID:79-1407232800-1407234600@www.timberridge-hoa.com
SUMMARY:Storytime in Severance
DESCRIPTION:Storytime in Severance with Miss Clare! Provided by the Clearview Library District
URL:https://www.timberridge-hoa.com/event/storytime-in-severance-6/
LOCATION:CO
CATEGORIES:Kids
END:VEVENT
BEGIN:VEVENT
DTSTART;TZID=America/Denver:20140805T093000
DTEND;TZID=America/Denver:20140805T120000
DTSTAMP:20260423T162357
CREATED:20140628T065039Z
LAST-MODIFIED:20140628T065039Z
UID:88-1407231000-1407240000@www.timberridge-hoa.com
SUMMARY:Clearview Mobile Library
DESCRIPTION:All stops are open to the public. The BoMo brings you books\, movies\, internet access\, crafts\, storytimes and helpful staff!
URL:https://www.timberridge-hoa.com/event/clearview-mobile-library-6/
LOCATION:CO
CATEGORIES:Family-Friendly,Kids
END:VEVENT
BEGIN:VEVENT
DTSTART;TZID=America/Denver:20140731T173000
DTEND;TZID=America/Denver:20140731T193000
DTSTAMP:20260423T162357
CREATED:20140628T072550Z
LAST-MODIFIED:20140729T013534Z
UID:101-1406827800-1406835000@www.timberridge-hoa.com
SUMMARY:HOA Board Meeting
DESCRIPTION:Be an active homeowner!
URL:https://www.timberridge-hoa.com/event/hoa-board-meeting/
LOCATION:Old Town Hall (Downtown)\, 36000 1st Street\, Severance\, CO\, 80550\, United States
CATEGORIES:HOA Meeting
END:VEVENT
BEGIN:VEVENT
DTSTART;TZID=America/Denver:20140729T100000
DTEND;TZID=America/Denver:20140729T103000
DTSTAMP:20260423T162357
CREATED:20140628T064115Z
LAST-MODIFIED:20140628T064115Z
UID:78-1406628000-1406629800@www.timberridge-hoa.com
SUMMARY:Storytime in Severance
DESCRIPTION:Storytime in Severance with Miss Clare! Provided by the Clearview Library District
URL:https://www.timberridge-hoa.com/event/storytime-in-severance-5/
LOCATION:CO
CATEGORIES:Kids
END:VEVENT
BEGIN:VEVENT
DTSTART;TZID=America/Denver:20140729T093000
DTEND;TZID=America/Denver:20140729T120000
DTSTAMP:20260423T162357
CREATED:20140628T065021Z
LAST-MODIFIED:20140628T065021Z
UID:87-1406626200-1406635200@www.timberridge-hoa.com
SUMMARY:Clearview Mobile Library
DESCRIPTION:All stops are open to the public. The BoMo brings you books\, movies\, internet access\, crafts\, storytimes and helpful staff!
URL:https://www.timberridge-hoa.com/event/clearview-mobile-library-5/
LOCATION:CO
CATEGORIES:Family-Friendly,Kids
END:VEVENT
BEGIN:VEVENT
DTSTART;VALUE=DATE:20140723
DTEND;VALUE=DATE:20140729
DTSTAMP:20260423T162357
CREATED:20140629T171259Z
LAST-MODIFIED:20140629T171319Z
UID:108-1406073600-1406591999@www.timberridge-hoa.com
SUMMARY:Weld County Fair (96th Annual)
DESCRIPTION:This annual free event gives the youth and adults of Weld County an opportunity to exhibit their skills in a wide variety of areas including agriculture\, livestock\, natural resources\, engineering\, consumer and family\, fine arts\, horticulture and family living.
URL:https://www.timberridge-hoa.com/event/weld-county-fair-96th-annual/
LOCATION:Weld County Fairgrounds\, 525 N. 15th Avenue\, Greeley\, CO\, 80550\, United States
CATEGORIES:Family-Friendly,Free,Kids
ORGANIZER;CN="Janet Konkel":MAILTO:jkonkel@co.weld.co.us
END:VEVENT
BEGIN:VEVENT
DTSTART;TZID=America/Denver:20140722T100000
DTEND;TZID=America/Denver:20140722T103000
DTSTAMP:20260423T162357
CREATED:20140628T064104Z
LAST-MODIFIED:20140628T064104Z
UID:77-1406023200-1406025000@www.timberridge-hoa.com
SUMMARY:Storytime in Severance
DESCRIPTION:Storytime in Severance with Miss Clare! Provided by the Clearview Library District
URL:https://www.timberridge-hoa.com/event/storytime-in-severance-4/
LOCATION:CO
CATEGORIES:Kids
END:VEVENT
BEGIN:VEVENT
DTSTART;TZID=America/Denver:20140722T093000
DTEND;TZID=America/Denver:20140722T120000
DTSTAMP:20260423T162357
CREATED:20140628T064934Z
LAST-MODIFIED:20140628T064934Z
UID:86-1406021400-1406030400@www.timberridge-hoa.com
SUMMARY:Clearview Mobile Library
DESCRIPTION:All stops are open to the public. The BoMo brings you books\, movies\, internet access\, crafts\, storytimes and helpful staff!
URL:https://www.timberridge-hoa.com/event/clearview-mobile-library-4/
LOCATION:CO
CATEGORIES:Family-Friendly,Kids
END:VEVENT
BEGIN:VEVENT
DTSTART;TZID=America/Denver:20140715T160000
DTEND;TZID=America/Denver:20140715T190000
DTSTAMP:20260423T162357
CREATED:20140628T235729Z
LAST-MODIFIED:20140628T235729Z
UID:104-1405440000-1405450800@www.timberridge-hoa.com
SUMMARY:New Town Hall Open House
DESCRIPTION:Visit with town staff\, meet town board members\, and view the new town hall (with snacks and refreshments!).
URL:https://www.timberridge-hoa.com/event/new-town-hall-open-house/
LOCATION:Severance Town Hall\, 3 Timber Ridge Parkway\, Severance\, CO\, 80550\, United States
CATEGORIES:Open House
END:VEVENT
BEGIN:VEVENT
DTSTART;TZID=America/Denver:20140715T100000
DTEND;TZID=America/Denver:20140715T103000
DTSTAMP:20260423T162357
CREATED:20140628T064033Z
LAST-MODIFIED:20140628T064033Z
UID:76-1405418400-1405420200@www.timberridge-hoa.com
SUMMARY:Storytime in Severance
DESCRIPTION:Storytime in Severance with Miss Clare! Provided by the Clearview Library District
URL:https://www.timberridge-hoa.com/event/storytime-in-severance-3/
LOCATION:CO
CATEGORIES:Kids
END:VEVENT
BEGIN:VEVENT
DTSTART;TZID=America/Denver:20140715T093000
DTEND;TZID=America/Denver:20140715T120000
DTSTAMP:20260423T162357
CREATED:20140628T064912Z
LAST-MODIFIED:20140628T064912Z
UID:85-1405416600-1405425600@www.timberridge-hoa.com
SUMMARY:Clearview Mobile Library
DESCRIPTION:All stops are open to the public. The BoMo brings you books\, movies\, internet access\, crafts\, storytimes and helpful staff!
URL:https://www.timberridge-hoa.com/event/clearview-mobile-library-3/
LOCATION:CO
CATEGORIES:Family-Friendly,Kids
END:VEVENT
BEGIN:VEVENT
DTSTART;TZID=America/Denver:20140708T100000
DTEND;TZID=America/Denver:20140708T103000
DTSTAMP:20260423T162357
CREATED:20140628T064018Z
LAST-MODIFIED:20140628T064018Z
UID:75-1404813600-1404815400@www.timberridge-hoa.com
SUMMARY:Storytime in Severance
DESCRIPTION:Storytime in Severance with Miss Clare! Provided by the Clearview Library District
URL:https://www.timberridge-hoa.com/event/storytime-in-severance-2/
LOCATION:CO
CATEGORIES:Kids
END:VEVENT
BEGIN:VEVENT
DTSTART;TZID=America/Denver:20140708T093000
DTEND;TZID=America/Denver:20140708T120000
DTSTAMP:20260423T162357
CREATED:20140628T064859Z
LAST-MODIFIED:20140628T064859Z
UID:84-1404811800-1404820800@www.timberridge-hoa.com
SUMMARY:Clearview Mobile Library
DESCRIPTION:All stops are open to the public. The BoMo brings you books\, movies\, internet access\, crafts\, storytimes and helpful staff!
URL:https://www.timberridge-hoa.com/event/clearview-mobile-library-2/
LOCATION:CO
CATEGORIES:Family-Friendly,Kids
END:VEVENT
BEGIN:VEVENT
DTSTART;TZID=America/Denver:20140701T100000
DTEND;TZID=America/Denver:20140701T103000
DTSTAMP:20260423T162357
CREATED:20140628T063648Z
LAST-MODIFIED:20140628T063648Z
UID:72-1404208800-1404210600@www.timberridge-hoa.com
SUMMARY:Storytime in Severance
DESCRIPTION:Storytime in Severance with Miss Clare! Provided by the Clearview Library District
URL:https://www.timberridge-hoa.com/event/storytime-in-severance/
LOCATION:CO
CATEGORIES:Kids
END:VEVENT
BEGIN:VEVENT
DTSTART;TZID=America/Denver:20140701T093000
DTEND;TZID=America/Denver:20140701T120000
DTSTAMP:20260423T162357
CREATED:20140628T064155Z
LAST-MODIFIED:20140628T064840Z
UID:80-1404207000-1404216000@www.timberridge-hoa.com
SUMMARY:Clearview Mobile Library
DESCRIPTION:All stops are open to the public. The BoMo brings you books\, movies\, internet access\, crafts\, storytimes and helpful staff!
URL:https://www.timberridge-hoa.com/event/clearview-mobile-library/
LOCATION:CO
CATEGORIES:Family-Friendly,Kids
END:VEVENT
END:VCALENDAR